Package: infercnv Version: 1.16.0 Command: /home/biocbuild/bbs-3.17-bioc/R/bin/R CMD check --install=check:infercnv.install-out.txt --library=/home/biocbuild/bbs-3.17-bioc/R/site-library --timings infercnv_1.16.0.tar.gz StartedAt: 2023-10-15 22:09:03 -0400 (Sun, 15 Oct 2023) EndedAt: 2023-10-15 22:16:47 -0400 (Sun, 15 Oct 2023) EllapsedTime: 463.4 seconds RetCode: 0 Status: OK CheckDir: infercnv.Rcheck Warnings: 0