git_url: https://git.bioconductor.org/packages/impute
git_branch: RELEASE_3_17
git_last_commit: ab62dc0
git_last_commit_date: 2023-05-01 20:10:41 -0400 (Mon, 01 May 2023)
Package: impute
Version: 1.74.1
Maintainer: Balasubramanian Narasimhan
MaintainerEmail: naras at stat.Stanford.EDU