git_url: https://git.bioconductor.org/packages/imcRtools
git_branch: RELEASE_3_17
git_last_commit: 3a14957
git_last_commit_date: 2023-09-15 07:45:06 -0400 (Fri, 15 Sep 2023)
Package: imcRtools
Version: 1.6.5
Maintainer: Nils Eling
MaintainerEmail: nils.eling at dqbm.uzh.ch