git_url: https://git.bioconductor.org/packages/illuminaio
git_branch: RELEASE_3_17
git_last_commit: d72b85c
git_last_commit_date: 2023-04-25 14:57:27 -0400 (Tue, 25 Apr 2023)
Package: illuminaio
Version: 0.42.0
Maintainer: Kasper Daniel Hansen
MaintainerEmail: kasperdanielhansen at gmail.com