Package: idiogram Version: 1.76.0 Command: rm -rf idiogram.buildbin-libdir && mkdir idiogram.buildbin-libdir && /Users/biocbuild/BBS/utils/build-universal.sh idiogram_1.76.0.tar.gz /Library/Frameworks/R.framework/Resources/bin/R idiogram.buildbin-libdir StartedAt: 2023-10-16 09:34:27 -0400 (Mon, 16 Oct 2023) EndedAt: 2023-10-16 09:35:29 -0400 (Mon, 16 Oct 2023) EllapsedTime: 62.4 seconds RetCode: 0 Status: OK PackageFile: idiogram_1.76.0.tgz PackageFileSize: 3.763 MiB