git_url: https://git.bioconductor.org/packages/hipathia
git_branch: RELEASE_3_17
git_last_commit: 2c2a601
git_last_commit_date: 2023-06-05 09:08:26 -0400 (Mon, 05 Jun 2023)
Package: hipathia
Version: 3.0.2
Maintainer: Marta R. Hidalgo
MaintainerEmail: marta.hidalgo at outlook.es