git_url: https://git.bioconductor.org/packages/hiReadsProcessor
git_branch: RELEASE_3_17
git_last_commit: 314f0b8
git_last_commit_date: 2023-04-25 10:34:04 -0400 (Tue, 25 Apr 2023)
Package: hiReadsProcessor
Version: 1.36.0
Maintainer: Nirav V Malani
MaintainerEmail: malnirav at gmail.com