git_url: https://git.bioconductor.org/packages/hermes
git_branch: RELEASE_3_17
git_last_commit: 66d78db
git_last_commit_date: 2023-04-25 11:35:06 -0400 (Tue, 25 Apr 2023)
Package: hermes
Version: 1.4.0
Maintainer: Daniel Sabanés Bové
MaintainerEmail: daniel.sabanes_bove at roche.com