git_url: https://git.bioconductor.org/packages/hca
git_branch: RELEASE_3_17
git_last_commit: e64e518
git_last_commit_date: 2023-06-06 13:17:19 -0400 (Tue, 06 Jun 2023)
Package: hca
Version: 1.8.1
Maintainer: Martin Morgan
MaintainerEmail: martin.morgan at roswellpark.org