Package: hapFabia Version: 1.42.0 Command: F:\biocbuild\bbs-3.17-bioc\R\bin\R.exe CMD INSTALL hapFabia StartedAt: 2023-10-15 15:48:51 -0400 (Sun, 15 Oct 2023) EndedAt: 2023-10-15 15:49:24 -0400 (Sun, 15 Oct 2023) EllapsedTime: 33.5 seconds RetCode: 0 Status: OK