git_url: https://git.bioconductor.org/packages/gwascat
git_branch: RELEASE_3_17
git_last_commit: 8c1533d
git_last_commit_date: 2023-04-25 10:22:24 -0400 (Tue, 25 Apr 2023)
Package: gwascat
Version: 2.32.0
Maintainer: VJ Carey
MaintainerEmail: stvjc at channing.harvard.edu