git_url: https://git.bioconductor.org/packages/graph
git_branch: RELEASE_3_17
git_last_commit: 9df68e8
git_last_commit_date: 2023-04-25 09:38:48 -0400 (Tue, 25 Apr 2023)
Package: graph
Version: 1.78.0
Maintainer: Bioconductor Package Maintainer
MaintainerEmail: maintainer at bioconductor.org