git_url: https://git.bioconductor.org/packages/graper
git_branch: RELEASE_3_17
git_last_commit: 503e2c9
git_last_commit_date: 2023-05-01 20:10:30 -0400 (Mon, 01 May 2023)
Package: graper
Version: 1.16.1
Maintainer: Britta Velten
MaintainerEmail: britta.velten at gmail.com