Package: granulator Version: 1.8.0 Command: F:\biocbuild\bbs-3.17-bioc\R\bin\R.exe CMD check --no-multiarch --install=check:granulator.install-out.txt --library=F:\biocbuild\bbs-3.17-bioc\R\library --no-vignettes --timings granulator_1.8.0.tar.gz StartedAt: 2023-10-16 02:48:24 -0400 (Mon, 16 Oct 2023) EndedAt: 2023-10-16 02:54:53 -0400 (Mon, 16 Oct 2023) EllapsedTime: 388.6 seconds RetCode: 0 Status: OK CheckDir: granulator.Rcheck Warnings: 0