git_url: https://git.bioconductor.org/packages/goProfiles
git_branch: RELEASE_3_17
git_last_commit: b34f21c
git_last_commit_date: 2023-04-25 09:46:44 -0400 (Tue, 25 Apr 2023)
Package: goProfiles
Version: 1.62.0
Maintainer: Alex Sanchez
MaintainerEmail: asanchez at ub.edu