git_url: https://git.bioconductor.org/packages/gmapR
git_branch: RELEASE_3_17
git_last_commit: 506bc70
git_last_commit_date: 2023-04-25 10:23:34 -0400 (Tue, 25 Apr 2023)
Package: gmapR
Version: 1.42.0
Maintainer: Michael Lawrence
MaintainerEmail: michafla at gene.com