git_url: https://git.bioconductor.org/packages/geneRecommender
git_branch: RELEASE_3_17
git_last_commit: b6bbcc3
git_last_commit_date: 2023-04-25 09:41:58 -0400 (Tue, 25 Apr 2023)
Package: geneRecommender
Version: 1.72.0
Maintainer: Greg Hather
MaintainerEmail: ghather at stat.berkeley.edu