git_url: https://git.bioconductor.org/packages/geneClassifiers
git_branch: RELEASE_3_17
git_last_commit: 84ba209
git_last_commit_date: 2023-04-25 10:52:19 -0400 (Tue, 25 Apr 2023)
Package: geneClassifiers
Version: 1.24.0
Maintainer: R Kuiper
MaintainerEmail: r.kuiper.emc at gmail.com