git_url: https://git.bioconductor.org/packages/geneAttribution
git_branch: RELEASE_3_17
git_last_commit: 622b748
git_last_commit_date: 2023-04-25 10:49:16 -0400 (Tue, 25 Apr 2023)
Package: geneAttribution
Version: 1.26.0
Maintainer: Arthur Wuster
MaintainerEmail: wustera at gene.com