git_url: https://git.bioconductor.org/packages/gemini
git_branch: RELEASE_3_17
git_last_commit: 24774bc
git_last_commit_date: 2023-04-25 11:11:08 -0400 (Tue, 25 Apr 2023)
Package: gemini
Version: 1.14.0
Maintainer: Sidharth Jain
MaintainerEmail: sidharthsjain at gmail.com