git_url: https://git.bioconductor.org/packages/gaggle
git_branch: RELEASE_3_17
git_last_commit: 84eedb6
git_last_commit_date: 2023-04-25 09:43:51 -0400 (Tue, 25 Apr 2023)
Package: gaggle
Version: 1.68.0
Maintainer: Christopher Bare
MaintainerEmail: cbare at systemsbiology.org