git_url: https://git.bioconductor.org/packages/frma git_branch: RELEASE_3_17 git_last_commit: f32878d git_last_commit_date: 2023-04-25 09:50:01 -0400 (Tue, 25 Apr 2023) Package: frma Version: 1.52.0 Maintainer: Matthew N. McCall MaintainerEmail: mccallm at gmail.com