Package: flowSpecs Version: 1.14.0 Command: /Library/Frameworks/R.framework/Resources/bin/R CMD build --keep-empty-dirs --no-resave-data flowSpecs StartedAt: 2023-10-15 18:23:06 -0400 (Sun, 15 Oct 2023) EndedAt: 2023-10-15 18:24:37 -0400 (Sun, 15 Oct 2023) EllapsedTime: 90.8 seconds RetCode: 0 Status: OK PackageFile: flowSpecs_1.14.0.tar.gz PackageFileSize: 3.506 MiB