Package: ffpe Version: 1.44.0 Command: chmod a+r ffpe -R && F:\biocbuild\bbs-3.17-bioc\R\bin\R.exe CMD build --keep-empty-dirs --no-resave-data ffpe StartedAt: 2023-10-15 19:12:53 -0400 (Sun, 15 Oct 2023) EndedAt: 2023-10-15 19:14:19 -0400 (Sun, 15 Oct 2023) EllapsedTime: 86.3 seconds RetCode: 0 Status: OK PackageFile: ffpe_1.44.0.tar.gz PackageFileSize: 163.9 KiB