Package: ffpe Version: 1.44.0 Command: rm -rf ffpe.buildbin-libdir && mkdir ffpe.buildbin-libdir && F:\biocbuild\bbs-3.17-bioc\R\bin\R.exe CMD INSTALL --build --library=ffpe.buildbin-libdir ffpe_1.44.0.tar.gz StartedAt: 2023-10-16 08:47:52 -0400 (Mon, 16 Oct 2023) EndedAt: 2023-10-16 08:48:47 -0400 (Mon, 16 Oct 2023) EllapsedTime: 55.2 seconds RetCode: 0 Status: OK PackageFile: ffpe_1.44.0.zip PackageFileSize: 197.9 KiB