git_url: https://git.bioconductor.org/packages/fastreeR
git_branch: RELEASE_3_17
git_last_commit: 534a1ca
git_last_commit_date: 2023-04-25 11:36:45 -0400 (Tue, 25 Apr 2023)
Package: fastreeR
Version: 1.4.0
Maintainer: Anestis Gkanogiannis
MaintainerEmail: anestis at gkanogiannis.com