git_url: https://git.bioconductor.org/packages/factR
git_branch: RELEASE_3_17
git_last_commit: 399210e
git_last_commit_date: 2023-04-25 11:38:52 -0400 (Tue, 25 Apr 2023)
Package: factR
Version: 1.2.0
Maintainer: Fursham Hamid
MaintainerEmail: fursham.h at gmail.com