Package: exomeCopy Version: 1.46.0 Command: /Library/Frameworks/R.framework/Resources/bin/R CMD build --keep-empty-dirs --no-resave-data exomeCopy StartedAt: 2023-10-15 18:15:19 -0400 (Sun, 15 Oct 2023) EndedAt: 2023-10-15 18:16:49 -0400 (Sun, 15 Oct 2023) EllapsedTime: 89.7 seconds RetCode: 0 Status: OK PackageFile: exomeCopy_1.46.0.tar.gz PackageFileSize: 687.4 KiB