git_url: https://git.bioconductor.org/packages/escheR
git_branch: RELEASE_3_17
git_last_commit: 902e060
git_last_commit_date: 2023-04-25 11:43:51 -0400 (Tue, 25 Apr 2023)
Package: escheR
Version: 1.0.0
Maintainer: Boyi Guo
MaintainerEmail: boyi.guo.work at gmail.com