Package: epivizrServer Version: 1.28.0 Command: /Library/Frameworks/R.framework/Resources/bin/R CMD INSTALL epivizrServer StartedAt: 2023-10-15 15:08:41 -0400 (Sun, 15 Oct 2023) EndedAt: 2023-10-15 15:09:23 -0400 (Sun, 15 Oct 2023) EllapsedTime: 42.5 seconds RetCode: 0 Status: OK