Package: epivizrServer Version: 1.28.0 Command: /Library/Frameworks/R.framework/Resources/bin/R CMD build --keep-empty-dirs --no-resave-data epivizrServer StartedAt: 2023-10-15 18:13:02 -0400 (Sun, 15 Oct 2023) EndedAt: 2023-10-15 18:13:17 -0400 (Sun, 15 Oct 2023) EllapsedTime: 15.0 seconds RetCode: 0 Status: OK PackageFile: epivizrServer_1.28.0.tar.gz PackageFileSize: 229.9 KiB