git_url: https://git.bioconductor.org/packages/epimutacions
git_branch: RELEASE_3_17
git_last_commit: 78170ad
git_last_commit_date: 2023-04-25 11:37:33 -0400 (Tue, 25 Apr 2023)
Package: epimutacions
Version: 1.4.0
Maintainer: Dolors Pelegri-Siso
MaintainerEmail: dolors.pelegri at isglobal.org