Package: epigenomix
Version: 1.40.0
Command: F:\biocbuild\bbs-3.17-bioc\R\bin\R.exe CMD INSTALL epigenomix
StartedAt: 2023-10-15 16:37:41 -0400 (Sun, 15 Oct 2023)
EndedAt: 2023-10-15 16:38:30 -0400 (Sun, 15 Oct 2023)
EllapsedTime: 48.7 seconds
RetCode: 0
Status: OK