Package: epigenomix
Version: 1.40.0
Command: F:\biocbuild\bbs-3.17-bioc\R\bin\R.exe CMD check --no-multiarch --install=check:epigenomix.install-out.txt --library=F:\biocbuild\bbs-3.17-bioc\R\library --no-vignettes --timings epigenomix_1.40.0.tar.gz
StartedAt: 2023-10-16 01:54:03 -0400 (Mon, 16 Oct 2023)
EndedAt: 2023-10-16 01:58:23 -0400 (Mon, 16 Oct 2023)
EllapsedTime: 260.0 seconds
RetCode: 0
Status: OK
CheckDir: epigenomix.Rcheck
Warnings: 0