Package: epigenomix Version: 1.40.0 Command: /home/biocbuild/bbs-3.17-bioc/R/bin/R CMD build --keep-empty-dirs --no-resave-data epigenomix StartedAt: 2023-10-15 16:42:43 -0400 (Sun, 15 Oct 2023) EndedAt: 2023-10-15 16:44:01 -0400 (Sun, 15 Oct 2023) EllapsedTime: 77.8 seconds RetCode: 0 Status: OK PackageFile: epigenomix_1.40.0.tar.gz PackageFileSize: 426.6 KiB