Package: epigenomix Version: 1.40.0 Command: rm -rf epigenomix.buildbin-libdir && mkdir epigenomix.buildbin-libdir && /Users/biocbuild/BBS/utils/build-universal.sh epigenomix_1.40.0.tar.gz /Library/Frameworks/R.framework/Resources/bin/R epigenomix.buildbin-libdir StartedAt: 2023-10-16 09:21:16 -0400 (Mon, 16 Oct 2023) EndedAt: 2023-10-16 09:23:52 -0400 (Mon, 16 Oct 2023) EllapsedTime: 156.2 seconds RetCode: 0 Status: OK PackageFile: epigenomix_1.40.0.tgz PackageFileSize: 964.4 KiB