Package: ensemblVEP Version: 1.42.0 Command: /home/biocbuild/bbs-3.17-bioc/R/bin/R CMD check --install=check:ensemblVEP.install-out.txt --library=/home/biocbuild/bbs-3.17-bioc/R/site-library --timings ensemblVEP_1.42.0.tar.gz StartedAt: 2023-07-17 20:58:32 -0400 (Mon, 17 Jul 2023) EndedAt: 2023-07-17 21:05:17 -0400 (Mon, 17 Jul 2023) EllapsedTime: 404.4 seconds RetCode: 0 Status: OK CheckDir: ensemblVEP.Rcheck Warnings: 0