Package: ensemblVEP Version: 1.42.0 Command: /home/biocbuild/bbs-3.17-bioc/R/bin/R CMD build --keep-empty-dirs --no-resave-data ensemblVEP StartedAt: 2023-10-15 16:42:17 -0400 (Sun, 15 Oct 2023) EndedAt: 2023-10-15 16:43:13 -0400 (Sun, 15 Oct 2023) EllapsedTime: 56.1 seconds RetCode: 1 Status: ERROR PackageFile: None PackageFileSize: NA