Package: dupRadar Version: 1.30.3 Command: /Library/Frameworks/R.framework/Resources/bin/R CMD INSTALL dupRadar StartedAt: 2023-10-15 15:07:22 -0400 (Sun, 15 Oct 2023) EndedAt: 2023-10-15 15:08:08 -0400 (Sun, 15 Oct 2023) EllapsedTime: 46.5 seconds RetCode: 0 Status: OK