Package: dupRadar Version: 1.30.3 Command: /Library/Frameworks/R.framework/Resources/bin/R CMD check --install=check:dupRadar.install-out.txt --library=/Library/Frameworks/R.framework/Resources/library --no-vignettes --timings dupRadar_1.30.3.tar.gz StartedAt: 2023-10-16 01:14:16 -0400 (Mon, 16 Oct 2023) EndedAt: 2023-10-16 01:16:03 -0400 (Mon, 16 Oct 2023) EllapsedTime: 107.3 seconds RetCode: 0 Status: OK CheckDir: dupRadar.Rcheck Warnings: 0