Package: dupRadar Version: 1.30.3 Command: /Library/Frameworks/R.framework/Resources/bin/R CMD build --keep-empty-dirs --no-resave-data dupRadar StartedAt: 2023-10-15 18:05:47 -0400 (Sun, 15 Oct 2023) EndedAt: 2023-10-15 18:07:12 -0400 (Sun, 15 Oct 2023) EllapsedTime: 85.4 seconds RetCode: 0 Status: OK PackageFile: dupRadar_1.30.3.tar.gz PackageFileSize: 3.73 MiB