git_url: https://git.bioconductor.org/packages/dks
git_branch: RELEASE_3_17
git_last_commit: 7a058d7
git_last_commit_date: 2023-04-25 10:20:59 -0400 (Tue, 25 Apr 2023)
Package: dks
Version: 1.46.0
Maintainer: Jeffrey T. Leek
MaintainerEmail: jleek at jhsph.edu