git_url: https://git.bioconductor.org/packages/diffuStats
git_branch: RELEASE_3_17
git_last_commit: 2182aad
git_last_commit_date: 2023-04-25 10:55:15 -0400 (Tue, 25 Apr 2023)
Package: diffuStats
Version: 1.20.0
Maintainer: Sergio Picart-Armada
MaintainerEmail: sergi.picart at upc.edu