Package: decontam
Version: 1.20.0
Command: /Library/Frameworks/R.framework/Resources/bin/R CMD INSTALL decontam
StartedAt: 2023-10-15 15:11:02 -0400 (Sun, 15 Oct 2023)
EndedAt: 2023-10-15 15:11:20 -0400 (Sun, 15 Oct 2023)
EllapsedTime: 18.3 seconds
RetCode: 0
Status: OK