Package: decontam
Version: 1.20.0
Command: /Library/Frameworks/R.framework/Resources/bin/R CMD check --install=check:decontam.install-out.txt --library=/Library/Frameworks/R.framework/Resources/library --no-vignettes --timings decontam_1.20.0.tar.gz
StartedAt: 2023-10-16 00:41:23 -0400 (Mon, 16 Oct 2023)
EndedAt: 2023-10-16 00:43:13 -0400 (Mon, 16 Oct 2023)
EllapsedTime: 110.6 seconds
RetCode: 0
Status: OK
CheckDir: decontam.Rcheck
Warnings: 0