Package: decontam Version: 1.20.0 Command: /Library/Frameworks/R.framework/Resources/bin/R CMD build --keep-empty-dirs --no-resave-data decontam StartedAt: 2023-10-15 17:49:52 -0400 (Sun, 15 Oct 2023) EndedAt: 2023-10-15 17:51:00 -0400 (Sun, 15 Oct 2023) EllapsedTime: 68.8 seconds RetCode: 0 Status: OK PackageFile: decontam_1.20.0.tar.gz PackageFileSize: 685 <A href="http://en.wikipedia.org/wiki/KiB" target="_blank">KiB</A>