Package: decontam
Version: 1.20.0
Command: rm -rf decontam.buildbin-libdir && mkdir decontam.buildbin-libdir && /Users/biocbuild/BBS/utils/build-universal.sh decontam_1.20.0.tar.gz /Library/Frameworks/R.framework/Resources/bin/R decontam.buildbin-libdir
StartedAt: 2023-10-16 09:15:31 -0400 (Mon, 16 Oct 2023)
EndedAt: 2023-10-16 09:15:49 -0400 (Mon, 16 Oct 2023)
EllapsedTime: 18.8 seconds
RetCode: 0
Status: OK
PackageFile: decontam_1.20.0.tgz
PackageFileSize: 719.4 <A href="http://en.wikipedia.org/wiki/KiB" target="_blank">KiB</A>