git_url: https://git.bioconductor.org/packages/ddPCRclust
git_branch: RELEASE_3_17
git_last_commit: 3a3fbaa
git_last_commit_date: 2023-04-25 10:59:37 -0400 (Tue, 25 Apr 2023)
Package: ddPCRclust
Version: 1.20.0
Maintainer: Benedikt G. Brink
MaintainerEmail: bbrink at cebitec.uni-bielefeld.de