git_url: https://git.bioconductor.org/packages/dce
git_branch: RELEASE_3_17
git_last_commit: 652a4f2
git_last_commit_date: 2023-07-12 03:56:14 -0400 (Wed, 12 Jul 2023)
Package: dce
Version: 1.8.2
Maintainer: Kim Philipp Jablonski
MaintainerEmail: kim.philipp.jablonski at gmail.com