git_url: https://git.bioconductor.org/packages/cytolib
git_branch: RELEASE_3_17
git_last_commit: 9fb4276
git_last_commit_date: 2023-07-14 15:08:29 -0400 (Fri, 14 Jul 2023)
Package: cytolib
Version: 2.12.1
Maintainer: Mike Jiang
MaintainerEmail: mike at ozette.ai